Workbook
Name AverageAPDays: Assumptions!$C$56
Name AverageARDays: Assumptions!$C$55
Name AverageCPCGoogle: Assumptions!$C$28
Name AverageCPConFACEBOOK: Assumptions!$C$29
Name AverageCPCSpend: Assumptions!#REF!
Name CPCGoogle: Assumptions!#REF!
Name CPMGrowthPerMonth: Assumptions!$C$8
Name DirectTrafficMultiplier: Assumptions!$C$26
Name eCommerceMargin: Assumptions!$C$34
Name FacebookToEcommerce: Assumptions!$C$19
Name FacebookToSubscriber: Assumptions!$C$16
Name InternetBaseCost: Assumptions!$C$36
Name InternetCostPer1MMVisits: Assumptions!$C$37
Name InventoryDaysOnHand: Assumptions!$C$57
Name LegalAndAccountingCostPerMonth: Assumptions!$C$44
Name MaxCPMOnAdsSold: Assumptions!$C$9
Name MaximumMktgSpendOfCash: Assumptions!$C$13
Name MonthlySubscriptionChurn: Assumptions!$C$5
Name MonthlySubscriptionPrice: Assumptions!$C$4
Name OpeningCashBalance: Assumptions!$C$50
Name OptionPoolPercentage: Assumptions!$C$52
Name OrdersPerWarehouseHelpPerson: Assumptions!$C$39
Name OrganicToEcommerceConversion: Assumptions!$C$23
Name OrganicToSubscriberConversion: Assumptions!$C$22
Name OrganicTrafficMonthlyGrowthRate: Assumptions!$C$25
Name PagesPerVisit: Assumptions!$C$7
Name PreMoneyMonth1: Assumptions!$C$51
Name RecruitingPerNewEmployee: Assumptions!$C$48
Name RentPerEmployee: Assumptions!$C$42
Name RevenueMultiple: Assumptions!$C$59
Name SEMToEcommerce: Assumptions!$C$18
Name SEMToSubscriber: Assumptions!$C$15
Name SeriesAFunding: Assumptions!$C$53
Name SteadyStateMonthlyFBSpend: Assumptions!$C$12
Name SteadyStateMonthlySEMSpend: Assumptions!$C$11
Name SubscriptionMargin: Assumptions!$C$33
Name TaxesAndBenefits: Assumptions!$C$41
Name TechCostPerEmployeePerMonth: Assumptions!$C$43
Name TrainingPerEmployeePerMonth: Assumptions!$C$47
Name TravelCostPerEmployeePerMonth: Assumptions!$C$46
Name VIsitsPerFBPicturePost: Assumptions!$C$30
Name VIsitsPerFBVideoPost: Assumptions!$C$31

Sheet Assumptions
B1: Dollar Cave Club
B2: ASSUMPTIONS
B4: Monthly Subscription Price | C4: 29.99
B5: Montly Subscription Churn | C5: 0.04
B7: Page views per visit | C7: 3.5
B8: CPM growth per month on ads sold | C8: 0.1
B9: Max CPM charged on ads sold | C9: 1.5
B11: Monthly SEM Spend (Google ads) | C11: 10000
B12: Monthly Facebook ad spend | C12: =SteadyStateMonthlySEMSpend -> 10000
B13: Maximum marketing spend of Cash Balance
B15: SEM -> Subscription Conversion | C15: 0.02
B16: Facebook -> Subscriber Conversion | C16: 0.01
B18: SEM -> eCommerce Conversion | C18: 0.045
B19: Facebook -> eCommerce Conversion | C19: 0.025
B22: Organic Traffic -> Subscriber Conversion | C22: 0.002
B23: Organic Traffic -> eCommerce Conversion | C23: 0.005
B25: Organic SEO Traffic monthly growth rate | C25: 0.1
B26: Direct Traffic Multiplier | C26: 0.33
B28: Average CPC on SEM (Google) | C28: 2.25
B29: Average CPC on Facebook | C29: 1.85
B30: Visits per FB Post with Picture | C30: 5
B31: Visits per FB Post with Video | C31: 25
... B41: Taxes and benefits load | C41: 0.25
B42: Rent per employee per month | C42: =500 -> 500
B43: Tech Cost per employee per month | C43: 100
B44: Legal and Accounting Cost per month | C44: 500
B46: Travel cost per employee per month | C46: 250
B47: Training Buidget per employee per month | C47: 100
B48: Recruiting per added employee | C48: 5000
B50: Raise at Month 1 | C50: 1000000
B51: Pre-money Valuation at Month 1 | C51: 3000000
B52: Option Pool Size after each round | C52: 0.1
B53: Raise at Month 13 | C53: 2500000
B55: Average Accounts Receivable Days | C55: 30
B56: Average Accounts Payable Days | C56: 60
B57: Inventory Days On Hand | C57: 30
B59: Multiple for computing enterprise value | C59: 5

Sheet Charts
E2: NOTE: THIS IS JUST FOR THE ENTREPRENEUR'S REFERENCE - DO NOT SEND THIS TO AN INVESTOR!!

Sheet Annual Income Statement
A1: ANNUAL Income Statement
B2: YEAR | C2: 2021 | D2: =C2+1 -> 2022 | E2: =D2+1 -> 2023 | F2: =E2+1 -> 2024 | G2: =F2+1 -> 2025
A3: ='Monthly Income Statement'!A3 -> Revenue
B4: ='Monthly Income Statement'!B4 -> Subscription | C4: =SUM('Monthly Income Statement'!C4:N4) -> 188367.19 | D4: =SUM('Monthly Income Statement'!O4:Z4) -> 654081.9 | E4: =SUM('Monthly Income Statement'!AA4:AL4) -> 1023618.7 | F4: =SUM('Monthly Income Statement'!AM4:AX4) -> 1452325.7 | G4: =SUM('Monthly Income Statement'!AY4:BJ4) -> 2345188
B5: ='Monthly Income Statement'!B5 -> Add-ons | C5: =SUM('Monthly Income Statement'!C5:N5) -> 19581.896 | D5: =SUM('Monthly Income Statement'!O5:Z5) -> 91967.446 | E5: =SUM('Monthly Income Statement'!AA5:AL5) -> 153542.8 | F5: =SUM('Monthly Income Statement'!AM5:AX5) -> 217848.86 | G5: =SUM('Monthly Income Statement'!AY5:BJ5) -> 351778.2
B6: ='Monthly Income Statement'!B6 -> eCommerce | C6: =SUM('Monthly Income Statement'!C6:N6) -> 121331.65 | D6: =SUM('Monthly Income Statement'!O6:Z6) -> 231228.15 | E6: =SUM('Monthly Income Statement'!AA6:AL6) -> 348470.55 | F6: =SUM('Monthly Income Statement'!AM6:AX6) -> 658330.32 | G6: =SUM('Monthly Income Statement'!AY6:BJ6) -> 1693632.9
B7: ='Monthly Income Statement'!B7 -> Advertising | C7: =SUM('Monthly Income Statement'!C7:N7) -> 598.56041 | D7: =SUM('Monthly Income Statement'!O7:Z7) -> 2425.2923 | E7: =SUM('Monthly Income Statement'!AA7:AL7) -> 4195.3202 | F7: =SUM('Monthly Income Statement'!AM7:AX7) -> 9489.3494 | G7: =SUM('Monthly Income Statement'!AY7:BJ7) -> 26052.604
A8: ='Monthly Income Statement'!A8 -> Gross Revenue | C8: =SUM(C4:C7) -> 329879.3 | D8: =SUM(D4:D7) -> 979702.78 | E8: =SUM(E4:E7) -> 1529827.3 | F8: =SUM(F4:F7) -> 2337994.3 | G8: =SUM(G4:G7) -> 4416651.8
A10: ='Monthly Income Statement'!A10 -> Direct Costs
B11: ='Monthly Income Statement'!B11 -> Internet infrastructure | C11: =SUM('Monthly Income Statement'!C11:N11) -> 6034.7689 | D11: =SUM('Monthly Income Statement'!O11:Z11) -> 6062.202 | E11: =SUM('Monthly Income Statement'!AA11:AL11) -> 6105.1459 | F11: =SUM('Monthly Income Statement'!AM11:AX11) -> 6237.8283 | G11: =SUM('Monthly Income Statement'!AY11:BJ11) -> 6652.9475
B12: ='Monthly Income Statement'!B12 -> Subscription | C12: =SUM('Monthly Income Statement'!C12:N12) -> 141275.39 | D12: =SUM('Monthly Income Statement'!O12:Z12) -> 490561.42 | E12: =SUM('Monthly Income Statement'!AA12:AL12) -> 767714.01 | F12: =SUM('Monthly Income Statement'!AM12:AX12) -> 1089244.3 | G12: =SUM('Monthly Income Statement'!AY12:BJ12) -> 1758891
B13: ='Monthly Income Statement'!B13 -> eCommerce | C13: =SUM('Monthly Income Statement'!C13:N13) -> 84932.155 | D13: =SUM('Monthly Income Statement'!O13:Z13) -> 161859.7 | E13: =SUM('Monthly Income Statement'!AA13:AL13) -> 243929.38 | F13: =SUM('Monthly Income Statement'!AM13:AX13) -> 460831.22 | G13: =SUM('Monthly Income Statement'!AY13:BJ13) -> 1185543.1
A14: ='Monthly Income Statement'!A14 -> Total Costs | C14: =SUM(C11:C13) -> 232242.32 | D14: =SUM(D11:D13) -> 658483.33 | E14: =SUM(E11:E13) -> 1017748.5 | F14: =SUM(F11:F13) -> 1556313.3 | G14: =SUM(G11:G13) -> 2951087
A16: ='Monthly Income Statement'!A16 -> Gross Profit | C16: =C8-C14 -> 97636.981 | D16: =D8-D14 -> 321219.46 | E16: =E8-E14 -> 512078.81 | F16: =F8-F14 -> 781680.91 | G16: =G8-G14 -> 1465564.7
A18: ='Monthly Income Statement'!A18 -> Marketing Costs
B19: ='Monthly Income Statement'!B19 -> CPC Spend | C19: =SUM('Monthly Income Statement'!C19:N19) -> 81206 | D19: =SUM('Monthly Income Statement'!O19:Z19) -> 120000 | E19: =SUM('Monthly Income Statement'!AA19:AL19) -> 120000 | F19: =SUM('Monthly Income Statement'!AM19:AX19) -> 120000 | G19: =SUM('Monthly Income Statement'!AY19:BJ19) -> 120000
B20: ='Monthly Income Statement'!B20 -> Facebook Spend | C20: =SUM('Monthly Income Statement'!C20:N20) -> 81499 | D20: =SUM('Monthly Income Statement'!O20:Z20) -> 120000 | E20: =SUM('Monthly Income Statement'!AA20:AL20) -> 120000 | F20: =SUM('Monthly Income Statement'!AM20:AX20) -> 120000 | G20: =SUM('Monthly Income Statement'!AY20:BJ20) -> 120000
A21: ='Monthly Income Statement'!A21 -> Total Marketing Costs | C21: =SUM(C19:C20) -> 162705 | D21: =SUM(D19:D20) -> 240000 | E21: =SUM(E19:E20) -> 240000 | F21: =SUM(F19:F20) -> 240000 | G21: =SUM(G19:G20) -> 240000
A23: ='Monthly Income Statement'!A23 -> Gross Profit - Sales and Marketing | C23: =C16-C21 -> -65068.019 | D23: =D16-D21 -> 81219.455 | E23: =E16-E21 -> 272078.81 | F23: =F16-F21 -> 541680.91 | G23: =G16-G21 -> 1225564.7
A25: ='Monthly Income Statement'!A25 -> Indirect Costs
B26: ='Monthly Income Statement'!B26 -> Salaries | C26: =SUM('Monthly Income Statement'!C26:N26) -> 675000 | D26: =SUM('Monthly Income Statement'!O26:Z26) -> 875000 | E26: =SUM('Monthly Income Statement'!AA26:AL26) -> 912500 | F26: =SUM('Monthly Income Statement'!AM26:AX26) -> 912500 | G26: =SUM('Monthly Income Statement'!AY26:BJ26) -> 937500
B27: ='Monthly Income Statement'!B27 -> Rent | C27: =SUM('Monthly Income Statement'!C27:N27) -> 38500 | D27: =SUM('Monthly Income Statement'!O27:Z27) -> 49500 | E27: =SUM('Monthly Income Statement'!AA27:AL27) -> 54000 | F27: =SUM('Monthly Income Statement'!AM27:AX27) -> 54000 | G27: =SUM('Monthly Income Statement'!AY27:BJ27) -> 57000
B28: ='Monthly Income Statement'!B28 -> Technology | C28: =SUM('Monthly Income Statement'!C28:N28) -> 7700 | D28: =SUM('Monthly Income Statement'!O28:Z28) -> 9900 | E28: =SUM('Monthly Income Statement'!AA28:AL28) -> 10800 | F28: =SUM('Monthly Income Statement'!AM28:AX28) -> 10800 | G28: =SUM('Monthly Income Statement'!AY28:BJ28) -> 11400
B29: ='Monthly Income Statement'!B29 -> Legal and Accounting | C29: =SUM('Monthly Income Statement'!C29:N29) -> 6000 | D29: =SUM('Monthly Income Statement'!O29:Z29) -> 6000 | E29: =SUM('Monthly Income Statement'!AA29:AL29) -> 6000 | F29: =SUM('Monthly Income Statement'!AM29:AX29) -> 6000 | G29: =SUM('Monthly Income Statement'!AY29:BJ29) -> 6000
B30: ='Monthly Income Statement'!B30 -> Travel | C30: =SUM('Monthly Income Statement'!C30:N30) -> 19250 | D30: =SUM('Monthly Income Statement'!O30:Z30) -> 24750 | E30: =SUM('Monthly Income Statement'!AA30:AL30) -> 27000 | F30: =SUM('Monthly Income Statement'!AM30:AX30) -> 27000 | G30: =SUM('Monthly Income Statement'!AY30:BJ30) -> 28500
B31: ='Monthly Income Statement'!B31 -> Training | C31: =SUM('Monthly Income Statement'!C31:N31) -> 7700 | D31: =SUM('Monthly Income Statement'!O31:Z31) -> 9900 | E31: =SUM('Monthly Income Statement'!AA31:AL31) -> 10800 | F31: =SUM('Monthly Income Statement'!AM31:AX31) -> 10800 | G31: =SUM('Monthly Income Statement'!AY31:BJ31) -> 11400
B32: ='Monthly Income Statement'!B32 -> Recruiting | C32: =SUM('Monthly Income Statement'!C32:N32) -> 15000 | D32: =SUM('Monthly Income Statement'!O32:Z32) -> 10000 | E32: =SUM('Monthly Income Statement'!AA32:AL32) -> 0 | F32: =SUM('Monthly Income Statement'!AM32:AX32) -> 0 | G32: =SUM('Monthly Income Statement'!AY32:BJ32) -> 5000
A33: ='Monthly Income Statement'!A33 -> Total Indirect Costs | C33: =SUM(C26:C32) -> 769150 | D33: =SUM(D26:D32) -> 985050 | E33: =SUM(E26:E32) -> 1021100 | F33: =SUM(F26:F32) -> 1021100 | G33: =SUM(G26:G32) -> 1056800
B35: Employees | C35: ='Monthly Income Statement'!N38 -> 7 | D35: ='Monthly Income Statement'!Z38 -> 9 | E35: ='Monthly Income Statement'!AL38 -> 9 | F35: ='Monthly Income Statement'!AX38 -> 9 | G35: ='Monthly Income Statement'!BJ38 -> 10
A36: ='Monthly Income Statement'!A35 -> EBITDA | C36: =C23-C33 -> -834218.02 | D36: =D23-D33 -> -903830.54 | E36: =E23-E33 -> -749021.19 | F36: =F23-F33 -> -479419.09 | G36: =G23-G33 -> 168764.74

Sheet Annual Balance Sheet
A1: Balance Sheet | C1: YEAR
C2: ='Annual Income Statement'!C2 -> 2021 | D2: ='Annual Income Statement'!D2 -> 2022 | E2: ='Annual Income Statement'!E2 -> 2023 | F2: ='Annual Income Statement'!F2 -> 2024 | G2: ='Annual Income Statement'!G2 -> 2025
A3: ='Monthly Balance Sheet'!A3 -> Assets:
A4: ='Monthly Balance Sheet'!A4 -> Cash | C4: ='Monthly Balance Sheet'!N4 -> 159382.6 | D4: ='Monthly Balance Sheet'!Z4 -> 1737182.2 | E4: ='Monthly Balance Sheet'!AL4 -> 967606.3 | F4: ='Monthly Balance Sheet'!AX4 -> 449441.85 | G4: ='Monthly Balance Sheet'!BJ4 -> 508209.56
A5: ='Monthly Balance Sheet'!A5 -> Accounts Receivable | C5: ='Monthly Balance Sheet'!N5 -> 55234.764 | D5: ='Monthly Balance Sheet'!Z5 -> 102575.07 | E5: ='Monthly Balance Sheet'!AL5 -> 151070.2 | F5: ='Monthly Balance Sheet'!AX5 -> 244857.68 | G5: ='Monthly Balance Sheet'!BJ5 -> 520952.85
A6: ='Monthly Balance Sheet'!A6 -> Inventory | C6: ='Monthly Balance Sheet'!N6 -> 41426.073 | D6: ='Monthly Balance Sheet'!Z6 -> 76931.306 | E6: ='Monthly Balance Sheet'!AL6 -> 113302.65 | F6: ='Monthly Balance Sheet'!AX6 -> 183643.26 | G6: ='Monthly Balance Sheet'!BJ6 -> 390714.64
A7: ='Monthly Balance Sheet'!A7 -> Fixed Assets
A8: ='Monthly Balance Sheet'!A8 -> Accumulated Depreciation
A9: ='Monthly Balance Sheet'!A9 -> Total Assets | C9: ='Monthly Balance Sheet'!N9 -> 256043.44 | D9: ='Monthly Balance Sheet'!Z9 -> 1916688.6 | E9: ='Monthly Balance Sheet'!AL9 -> 1231979.2 | F9: ='Monthly Balance Sheet'!AX9 -> 877942.78 | G9: ='Monthly Balance Sheet'!BJ9 -> 1419877
A11: ='Monthly Balance Sheet'!A11 -> Liabilities
A12: ='Monthly Balance Sheet'!A12 -> Accounts Payable | C12: ='Monthly Balance Sheet'!N12 -> 90261.457 | D12: ='Monthly Balance Sheet'!Z12 -> 154737.13 | E12: ='Monthly Balance Sheet'!AL12 -> 219048.91 | F12: ='Monthly Balance Sheet'!AX12 -> 344431.62 | G12: ='Monthly Balance Sheet'!BJ12 -> 717601.15
A13: ='Monthly Balance Sheet'!A13 -> Short Term Debt
A14: ='Monthly Balance Sheet'!A14 -> Long Term Debt
A15: ='Monthly Balance Sheet'!A15 -> Total Liabilities | C15: ='Monthly Balance Sheet'!N15 -> 90261.457 | D15: ='Monthly Balance Sheet'!Z15 -> 154737.13 | E15: ='Monthly Balance Sheet'!AL15 -> 219048.91 | F15: ='Monthly Balance Sheet'!AX15 -> 344431.62 | G15: ='Monthly Balance Sheet'!BJ15 -> 717601.15
A17: ='Monthly Balance Sheet'!A17 -> Owners Equity
A18: ='Monthly Balance Sheet'!A18 -> Capital Stock | C18: ='Monthly Balance Sheet'!N18 -> 1000000 | D18: ='Monthly Balance Sheet'!Z18 -> 3500000 | E18: ='Monthly Balance Sheet'!AL18 -> 3500000 | F18: ='Monthly Balance Sheet'!AX18 -> 3500000 | G18: ='Monthly Balance Sheet'!BJ18 -> 3500000
A19: ='Monthly Balance Sheet'!A19 -> Retained Earnings | C19: ='Monthly Balance Sheet'!N19 -> -834218.02 | D19: ='Monthly Balance Sheet'!Z19 -> -1738048.6 | E19: ='Monthly Balance Sheet'!AL19 -> -2487069.8 | F19: ='Monthly Balance Sheet'!AX19 -> -2966488.8 | G19: ='Monthly Balance Sheet'!BJ19 -> -2797724.1
A20: ='Monthly Balance Sheet'!A20 -> Total Equity | C20: ='Monthly Balance Sheet'!N20 -> 165781.98 | D20: ='Monthly Balance Sheet'!Z20 -> 1761951.4 | E20: ='Monthly Balance Sheet'!AL20 -> 1012930.2 | F20: ='Monthly Balance Sheet'!AX20 -> 533511.15 | G20: ='Monthly Balance Sheet'!BJ20 -> 702275.9
A22: ='Monthly Balance Sheet'!A22 -> Total Liabilities & Equity | C22: ='Monthly Balance Sheet'!N22 -> 256043.44 | D22: ='Monthly Balance Sheet'!Z22 -> 1916688.6 | E22: ='Monthly Balance Sheet'!AL22 -> 1231979.2 | F22: ='Monthly Balance Sheet'!AX22 -> 877942.78 | G22: ='Monthly Balance Sheet'!BJ22 -> 1419877

Sheet Annual Cash Flow
A1: ANNUAL Cash Flow | C1: YEAR
C2: ='Annual Income Statement'!C2 -> 2021 | D2: ='Annual Income Statement'!D2 -> 2022 | E2: ='Annual Income Statement'!E2 -> 2023 | F2: ='Annual Income Statement'!F2 -> 2024 | G2: ='Annual Income Statement'!G2 -> 2025
B3: ='Monthly Cash Flow'!B3 -> Beginning Cash Balance | C3: ='Monthly Cash Flow'!C3 -> 0 | D3: ='Monthly Cash Flow'!O3 -> 159382.6 | E3: ='Monthly Cash Flow'!AA3 -> 1737182.2 | F3: ='Monthly Cash Flow'!AM3 -> 967606.3 | G3: ='Monthly Cash Flow'!AY3 -> 449441.85
B5: ='Monthly Cash Flow'!B5 -> Cash Receipts:
B6: ='Monthly Cash Flow'!B6 -> Gross Sales | C6: =SUM('Monthly Cash Flow'!C6:N6) -> 329879.3 | D6: =SUM('Monthly Cash Flow'!O6:Z6) -> 979702.78 | E6: =SUM('Monthly Cash Flow'!AA6:AL6) -> 1529827.3 | F6: =SUM('Monthly Cash Flow'!AM6:AX6) -> 2337994.3 | G6: =SUM('Monthly Cash Flow'!AY6:BJ6) -> 4416651.8
B7: ='Monthly Cash Flow'!B7 -> Change in A/R | C7: =0-'Monthly Balance Sheet'!N5 -> -55234.764 | D7: ='Monthly Balance Sheet'!N5-'Monthly Balance Sheet'!Z5 -> -47340.311 | E7: ='Monthly Balance Sheet'!Z5-'Monthly Balance Sheet'!AL5 -> -48495.129 | F7: ='Monthly Balance Sheet'!AL5-'Monthly Balance Sheet'!AX5 -> -93787.472 | G7: ='Monthly Balance Sheet'!AX5-'Monthly Balance Sheet'!BJ5 -> -276095.17
B9: ='Monthly Cash Flow'!B9 -> Total Receipts | C9: =SUM(C5:C8) -> 274644.53 | D9: =SUM(D5:D8) -> 932362.47 | E9: =SUM(E5:E8) -> 1481332.2 | F9: =SUM(F5:F8) -> 2244206.8 | G9: =SUM(G5:G8) -> 4140556.6
B11: ='Monthly Cash Flow'!B11 -> Disbursements:
B12: ='Monthly Cash Flow'!B12 -> Gross Expenses | C12: =SUM('Monthly Cash Flow'!C12:N12) -> -1164097.3 | D12: =SUM('Monthly Cash Flow'!O12:Z12) -> -1883533.3 | E12: =SUM('Monthly Cash Flow'!AA12:AL12) -> -2278848.5 | F12: =SUM('Monthly Cash Flow'!AM12:AX12) -> -2817413.3 | G12: =SUM('Monthly Cash Flow'!AY12:BJ12) -> -4247887
B13: ='Monthly Cash Flow'!B13 -> Change in A/P | C13: ='Monthly Balance Sheet'!N12-0 -> 90261.457 | D13: ='Monthly Balance Sheet'!Z12-'Monthly Balance Sheet'!N12 -> 64475.673 | E13: ='Monthly Balance Sheet'!AL12-'Monthly Balance Sheet'!Z12 -> 64311.783 | F13: ='Monthly Balance Sheet'!AX12-'Monthly Balance Sheet'!AL12 -> 125382.71 | G13: ='Monthly Balance Sheet'!BJ12-'Monthly Balance Sheet'!AX12 -> 373169.52
B14: ='Monthly Cash Flow'!B14 -> Change in Inventory Value | C14: =0-'Monthly Balance Sheet'!N6 -> -41426.073 | D14: ='Monthly Balance Sheet'!N6-'Monthly Balance Sheet'!Z6 -> -35505.233 | E14: ='Monthly Balance Sheet'!Z6-'Monthly Balance Sheet'!AL6 -> -36371.347 | F14: ='Monthly Balance Sheet'!AL6-'Monthly Balance Sheet'!AX6 -> -70340.604 | G14: ='Monthly Balance Sheet'!AX6-'Monthly Balance Sheet'!BJ6 -> -207071.38
B15: ='Monthly Cash Flow'!B15 -> Amortization & Depreciation
B16: ='Monthly Cash Flow'!B16 -> Capital Expenditures
B17: ='Monthly Cash Flow'!B17 -> Income Tax Paid
B18: ='Monthly Cash Flow'!B18 -> Total Disbursements | C18: =SUM(C11:C17) -> -1115261.9 | D18: =SUM(D11:D17) -> -1854562.9 | E18: =SUM(E11:E17) -> -2250908.1 | F18: =SUM(F11:F17) -> -2762371.2 | G18: =SUM(G11:G17) -> -4081788.9
B20: ='Monthly Cash Flow'!B20 -> Net Cash Flow from Operations
B22: ='Monthly Cash Flow'!B22 -> Equity Financing | C22: =SUM('Monthly Cash Flow'!C22:N22) -> 1000000 | D22: =SUM('Monthly Cash Flow'!O22:Z22) -> 2500000 | E22: =SUM('Monthly Cash Flow'!AA22:AL22) -> 0 | F22: =SUM('Monthly Cash Flow'!AM22:AX22) -> 0 | G22: =SUM('Monthly Cash Flow'!AY22:BJ22) -> 0
B23: ='Monthly Cash Flow'!B23 -> Interest Income
B24: ='Monthly Cash Flow'!B24 -> Short Term borrowing
B25: ='Monthly Cash Flow'!B25 -> Short Term repayments
B27: ='Monthly Cash Flow'!B27 -> Ending Cash Balance | C27: ='Monthly Cash Flow'!N27 -> 159382.6 | D27: ='Monthly Cash Flow'!Z27 -> 1737182.2 | E27: ='Monthly Cash Flow'!AL27 -> 967606.3 | F27: ='Monthly Cash Flow'!AX27 -> 449441.85 | G27: ='Monthly Cash Flow'!BJ27 -> 508209.56
B29: Lowest balance of the year | C29: =MIN('Monthly Cash Flow'!C27:N27) -> 159382.6 | D29: =MIN('Monthly Cash Flow'!O27:Z27) -> 1737182.2 | E29: =MIN('Monthly Cash Flow'!AA27:AL27) -> 967606.3 | F29: =MIN('Monthly Cash Flow'!AM27:AX27) -> 449441.85 | G29: =MIN('Monthly Cash Flow'!AY27:BJ27) -> 372769.28

Sheet Monthly Income Statement
A1: MONTHLY Income Statement
B2: MONTH | C2: 44211 | D2: =C2+30 -> 44241 | E2: =D2+30 -> 44271 | F2: =E2+30 -> 44301 | G2: =F2+30 -> 44331 | H2: =G2+30 -> 44361 | I2: =H2+30 -> 44391 | J2: =I2+30 -> 44421 | K2: =J2+30 -> 44451 | ... Z2: =Y2+30 -> 44901 | AA2: 44941 | AB2: =AA2+30 -> 44971 | AC2: =AB2+30 -> 45001 | AD2: =AC2+30 -> 45031 | AE2: =AD2+30 -> 45061 | AF2: =AE2+30 -> 45091 | AG2: =AF2+30 -> 45121 | AH2: =AG2+30 -> 45151 | AI2: =AH2+30 -> 45181 | ... AX2: =AW2+30 -> 45631 | AY2: 45672 | AZ2: =AY2+30 -> 45702 | BA2: =AZ2+30 -> 45732 | BB2: =BA2+30 -> 45762 | BC2: =BB2+30 -> 45792 | BD2: =BC2+30 -> 45822 | BE2: =BD2+30 -> 45852 | BF2: =BE2+30 -> 45882 | BG2: =BF2+30 -> 45912 | ... BJ2: =BI2+30 -> 46002
A3: Revenue
B4: Subscription | C4: 3058.98 | D4: 3178.94 | E4: 3418.86 | F4: 3628.79 | G4: 8127.29 | H4: ='Sales Detail'!H17 -> 12085.97 | I4: ='Sales Detail'!I17 -> 16254.58 | J4: ='Sales Detail'!J17 -> 20243.25 | K4: ='Sales Detail'!K17 -> 24111.96 | L4: ='Sales Detail'!L17 -> 27860.71 | M4: ='Sales Detail'!M17 -> 31459.51 | N4: ='Sales Detail'!N17 -> 34938.35 | O4: ='Sales Detail'!O17 -> 38297.23 | ... BJ4: ='Sales Detail'!BJ17 -> 255994.64
B5: Add-ons | C5: 145 | D5: 245 | E5: 257 | F5: 302 | G5: 703 | H5: ='Sales Detail'!H21 -> 1133.0597 | I5: ='Sales Detail'!I21 -> 1584.8215 | J5: ='Sales Detail'!J21 -> 2049.6291 | K5: ='Sales Detail'!K21 -> 2531.7558 | L5: ='Sales Detail'!L21 -> 3029.8522 | M5: ='Sales Detail'!M21 -> 3539.1949 | N5: ='Sales Detail'!N21 -> 4061.5832 | O5: ='Sales Detail'!O21 -> 4595.6676 | ... BJ5: ='Sales Detail'!BJ21 -> 38399.196
B6: eCommerce | C6: 408.12 | D6: 515.44 | E6: 674.52 | F6: 981.75 | G6: 13602.51 | H6: ='Sales Detail'!H25 -> 13990.504 | I6: ='Sales Detail'!I25 -> 14309.734 | J6: ='Sales Detail'!J25 -> 14636.138 | K6: ='Sales Detail'!K25 -> 15010.888 | L6: ='Sales Detail'!L25 -> 15352.939 | M6: ='Sales Detail'!M25 -> 15745.339 | N6: ='Sales Detail'!N25 -> 16103.769 | O6: ='Sales Detail'!O25 -> 16514.633 | ... BJ6: ='Sales Detail'!BJ25 -> 223170.97
B7: Advertising | C7: 1.163745 | D7: 2.011724 | E7: 3.1397798 | F7: 4.3179048 | G7: 32.496064 | H7: ='Sales Detail'!H31 -> 39.997879 | I7: ='Sales Detail'!I31 -> 49.624837 | J7: ='Sales Detail'!J31 -> 61.004773 | K7: ='Sales Detail'!K31 -> 74.441357 | L7: ='Sales Detail'!L31 -> 90.29803 | M7: ='Sales Detail'!M31 -> 109.00287 | N7: ='Sales Detail'!N31 -> 131.06144 | O7: ='Sales Detail'!O31 -> 148.53805 | ... BJ7: ='Sales Detail'!BJ31 -> 3388.0429
A8: Gross Revenue | C8: 3613.2637 | D8: 3941.3917 | E8: 4353.5198 | F8: 4916.8579 | G8: 22465.296 | H8: =SUM(H4:H7) -> 27249.531 | I8: =SUM(I4:I7) -> 32198.761 | J8: =SUM(J4:J7) -> 36990.022 | K8: =SUM(K4:K7) -> 41729.045 | L8: =SUM(L4:L7) -> 46333.799 | M8: =SUM(M4:M7) -> 50853.046 | N8: =SUM(N4:N7) -> 55234.764 | O8: =SUM(O4:O7) -> 59556.068 | ... BJ8: =SUM(BJ4:BJ7) -> 520952.85
A10: Direct Costs
B11: Internet infrastructure | C11: 500.336 | D11: 500.5025 | E11: 500.606 | F11: 500.6915 | G11: 503.9295 | H11: =InternetBaseCost+InternetCostPer1MMVisits*'Traffic Detail'!H22/1000000 -> 503.8998 | I11: =InternetBaseCost+InternetCostPer1MMVisits*'Traffic Detail'!I22/1000000 -> 503.95871 | J11: =InternetBaseCost+InternetCostPer1MMVisits*'Traffic Detail'!J22/1000000 -> 504.02192 | K11: =InternetBaseCost+InternetCostPer1MMVisits*'Traffic Detail'!K22/1000000 -> 504.0898 | L11: =InternetBaseCost+InternetCostPer1MMVisits*'Traffic Detail'!L22/1000000 -> 504.16305 | M11: =InternetBaseCost+InternetCostPer1MMVisits*'Traffic Detail'!M22/1000000 -> 504.24223 | N11: =InternetBaseCost+InternetCostPer1MMVisits*'Traffic Detail'!N22/1000000 -> 504.32788 | O11: =InternetBaseCost+InternetCostPer1MMVisits*'Traffic Detail'!O22/1000000 -> 504.42078 | ... BJ11: =InternetBaseCost+InternetCostPer1MMVisits*'Traffic Detail'!BJ22/1000000 -> 584.91336
B12: Subscription | C12: 2294.235 | D12: 2384.205 | E12: 2564.145 | F12: 2721.5925 | G12: 6095.4675 | H12: =(1-SubscriptionMargin)*H4 -> 9064.4775 | I12: =(1-SubscriptionMargin)*I4 -> 12190.935 | J12: =(1-SubscriptionMargin)*J4 -> 15182.438 | K12: =(1-SubscriptionMargin)*K4 -> 18083.97 | L12: =(1-SubscriptionMargin)*L4 -> 20895.533 | M12: =(1-SubscriptionMargin)*M4 -> 23594.632 | N12: =(1-SubscriptionMargin)*N4 -> 26203.762 | O12: =(1-SubscriptionMargin)*O4 -> 28722.922 | ... BJ12: =(1-SubscriptionMargin)*BJ4 -> 191995.98
B13: eCommerce | C13: 285.684 | D13: 360.808 | E13: 472.164 | F13: 687.225 | G13: 9521.757 | H13: =(1-eCommerceMargin)*H6 -> 9793.3525 | I13: =(1-eCommerceMargin)*I6 -> 10016.814 | J13: =(1-eCommerceMargin)*J6 -> 10245.297 | K13: =(1-eCommerceMargin)*K6 -> 10507.621 | L13: =(1-eCommerceMargin)*L6 -> 10747.057 | M13: =(1-eCommerceMargin)*M6 -> 11021.737 | N13: =(1-eCommerceMargin)*N6 -> 11272.638 | O13: =(1-eCommerceMargin)*O6 -> 11560.243 | ... BJ13: =(1-eCommerceMargin)*BJ6 -> 156219.68
A14: Total Costs | C14: 3080.255 | D14: 3245.5155 | E14: 3536.915 | F14: 3909.509 | G14: 16121.154 | H14: =SUM(H11:H13) -> 19361.73 | I14: =SUM(I11:I13) -> 22711.708 | J14: =SUM(J11:J13) -> 25931.756 | K14: =SUM(K11:K13) -> 29095.681 | L14: =SUM(L11:L13) -> 32146.753 | M14: =SUM(M11:M13) -> 35120.612 | N14: =SUM(N11:N13) -> 37980.729 | O14: =SUM(O11:O13) -> 40787.586 | ... BJ14: =SUM(BJ11:BJ13) -> 348800.57
A16: Gross Profit | C16: 533.00874 | D16: 695.87622 | E16: 816.60478 | F16: 1007.3489 | G16: 6344.1421 | H16: =H8-H14 -> 7887.8013 | I16: =I8-I14 -> 9487.053 | J16: =J8-J14 -> 11058.266 | K16: =K8-K14 -> 12633.364 | L16: =L8-L14 -> 14187.046 | M16: =M8-M14 -> 15732.435 | N16: =N8-N14 -> 17254.035 | O16: =O8-O14 -> 18768.482 | ... BJ16: =BJ8-BJ14 -> 172152.28
A18: Marketing Costs
B19: CPC Spend | C19: 200 | D19: 250 | E19: 376 | F19: 457 | G19: 9923 | H19: ='Traffic Detail'!H3 -> 10000 | I19: ='Traffic Detail'!I3 -> 10000 | J19: ='Traffic Detail'!J3 -> 10000 | K19: ='Traffic Detail'!K3 -> 10000 | L19: ='Traffic Detail'!L3 -> 10000 | M19: ='Traffic Detail'!M3 -> 10000 | N19: ='Traffic Detail'!N3 -> 10000 | O19: ='Traffic Detail'!O3 -> 10000 | ... BJ19: ='Traffic Detail'!BJ3 -> 10000
B20: Facebook Spend | C20: 200 | D20: 250 | E20: 434 | F20: 452 | G20: 10163 | H20: ='Traffic Detail'!H7 -> 10000 | I20: ='Traffic Detail'!I7 -> 10000 | J20: ='Traffic Detail'!J7 -> 10000 | K20: ='Traffic Detail'!K7 -> 10000 | L20: ='Traffic Detail'!L7 -> 10000 | M20: ='Traffic Detail'!M7 -> 10000 | N20: ='Traffic Detail'!N7 -> 10000 | O20: ='Traffic Detail'!O7 -> 10000 | ... BJ20: ='Traffic Detail'!BJ7 -> 10000
A21: Total Marketing Costs | C21: 400 | D21: 500 | E21: 810 | F21: 909 | G21: 20086 | H21: =SUM(H19:H20) -> 20000 | I21: =SUM(I19:I20) -> 20000 | J21: =SUM(J19:J20) -> 20000 | K21: =SUM(K19:K20) -> 20000 | L21: =SUM(L19:L20) -> 20000 | M21: =SUM(M19:M20) -> 20000 | N21: =SUM(N19:N20) -> 20000 | O21: =SUM(O19:O20) -> 20000 | ... BJ21: =SUM(BJ19:BJ20) -> 20000
A23: Gross Profit - Sales and Marketing | C23: 133.00874 | D23: 195.87622 | E23: 6.6047798 | F23: 98.348905 | G23: -13741.858 | H23: =H16-H21 -> -12112.199 | I23: =I16-I21 -> -10512.947 | J23: =J16-J21 -> -8941.7341 | K23: =K16-K21 -> -7366.6363 | L23: =L16-L21 -> -5812.9536 | M23: =M16-M21 -> -4267.5654 | N23: =N16-N21 -> -2745.9651 | O23: =O16-O21 -> -1231.5178 | ... BJ23: =BJ16-BJ21 -> 152152.28
A25: Indirect Costs
B26: Salaries | C26: 35416.667 | D26: 35416.667 | E26: 51041.667 | F26: 61458.333 | G26: 61458.333 | H26: =Employees!H30 -> 61458.333 | I26: =Employees!I30 -> 61458.333 | J26: =Employees!J30 -> 61458.333 | K26: =Employees!K30 -> 61458.333 | L26: =Employees!L30 -> 61458.333 | M26: =Employees!M30 -> 61458.333 | N26: =Employees!N30 -> 61458.333 | O26: =Employees!O30 -> 71875 | ... BJ26: =Employees!BJ30 -> 80208.333
B27: Rent | C27: 2000 | D27: 2000 | E27: 3000 | F27: 3500 | G27: 3500 | H27: =RentPerEmployee*Employees!H14 -> 3500 | I27: =RentPerEmployee*Employees!I14 -> 3500 | J27: =RentPerEmployee*Employees!J14 -> 3500 | K27: =RentPerEmployee*Employees!K14 -> 3500 | L27: =RentPerEmployee*Employees!L14 -> 3500 | M27: =RentPerEmployee*Employees!M14 -> 3500 | N27: =RentPerEmployee*Employees!N14 -> 3500 | O27: =RentPerEmployee*Employees!O14 -> 4000 | ... BJ27: =RentPerEmployee*Employees!BJ14 -> 5000
B28: Technology | C28: 400 | D28: 400 | E28: 600 | F28: 700 | G28: 700 | H28: =TechCostPerEmployeePerMonth*Employees!H14 -> 700 | I28: =TechCostPerEmployeePerMonth*Employees!I14 -> 700 | J28: =TechCostPerEmployeePerMonth*Employees!J14 -> 700 | K28: =TechCostPerEmployeePerMonth*Employees!K14 -> 700 | L28: =TechCostPerEmployeePerMonth*Employees!L14 -> 700 | M28: =TechCostPerEmployeePerMonth*Employees!M14 -> 700 | N28: =TechCostPerEmployeePerMonth*Employees!N14 -> 700 | O28: =TechCostPerEmployeePerMonth*Employees!O14 -> 800 | ... BJ28: =TechCostPerEmployeePerMonth*Employees!BJ14 -> 1000
B29: Legal and Accounting | C29: 500 | D29: 500 | E29: 500 | F29: 500 | G29: 500 | H29: =LegalAndAccountingCostPerMonth -> 500 | I29: =LegalAndAccountingCostPerMonth -> 500 | J29: =LegalAndAccountingCostPerMonth -> 500 | K29: =LegalAndAccountingCostPerMonth -> 500 | L29: =LegalAndAccountingCostPerMonth -> 500 | M29: =LegalAndAccountingCostPerMonth -> 500 | N29: =LegalAndAccountingCostPerMonth -> 500 | O29: =LegalAndAccountingCostPerMonth -> 500 | ... BJ29: =LegalAndAccountingCostPerMonth -> 500
B30: Travel | C30: 1000 | D30: 1000 | E30: 1500 | F30: 1750 | G30: 1750 | H30: =TravelCostPerEmployeePerMonth*Employees!H14 -> 1750 | I30: =TravelCostPerEmployeePerMonth*Employees!I14 -> 1750 | J30: =TravelCostPerEmployeePerMonth*Employees!J14 -> 1750 | K30: =TravelCostPerEmployeePerMonth*Employees!K14 -> 1750 | L30: =TravelCostPerEmployeePerMonth*Employees!L14 -> 1750 | M30: =TravelCostPerEmployeePerMonth*Employees!M14 -> 1750 | N30: =TravelCostPerEmployeePerMonth*Employees!N14 -> 1750 | O30: =TravelCostPerEmployeePerMonth*Employees!O14 -> 2000 | ... BJ30: =TravelCostPerEmployeePerMonth*Employees!BJ14 -> 2500
B31: Training | C31: 400 | D31: 400 | E31: 600 | F31: 700 | G31: 700 | H31: =TrainingPerEmployeePerMonth*Employees!H14 -> 700 | I31: =TrainingPerEmployeePerMonth*Employees!I14 -> 700 | J31: =TrainingPerEmployeePerMonth*Employees!J14 -> 700 | K31: =TrainingPerEmployeePerMonth*Employees!K14 -> 700 | L31: =TrainingPerEmployeePerMonth*Employees!L14 -> 700 | M31: =TrainingPerEmployeePerMonth*Employees!M14 -> 700 | N31: =TrainingPerEmployeePerMonth*Employees!N14 -> 700 | O31: =TrainingPerEmployeePerMonth*Employees!O14 -> 800 | ... BJ31: =TrainingPerEmployeePerMonth*Employees!BJ14 -> 1000
B32: Recruiting | C32: 0 | D32: 0 | E32: 10000 | F32: 5000 | G32: 0 | H32: =RecruitingPerNewEmployee*(Employees!H14-Employees!G14) -> 0 | I32: =RecruitingPerNewEmployee*(Employees!I14-Employees!H14) -> 0 | J32: =RecruitingPerNewEmployee*(Employees!J14-Employees!I14) -> 0 | K32: =RecruitingPerNewEmployee*(Employees!K14-Employees!J14) -> 0 | L32: =RecruitingPerNewEmployee*(Employees!L14-Employees!K14) -> 0 | M32: =RecruitingPerNewEmployee*(Employees!M14-Employees!L14) -> 0 | N32: =RecruitingPerNewEmployee*(Employees!N14-Employees!M14) -> 0 | O32: =RecruitingPerNewEmployee*(Employees!O14-Employees!N14) -> 5000 | ... BJ32: =RecruitingPerNewEmployee*(Employees!BJ14-Employees!BI14) -> 0
A33: Total Indirect Costs | C33: 39716.667 | D33: 39716.667 | E33: 67241.667 | F33: 73608.333 | G33: 68608.333 | H33: =SUM(H25:H32) -> 68608.333 | I33: =SUM(I25:I32) -> 68608.333 | J33: =SUM(J25:J32) -> 68608.333 | K33: =SUM(K25:K32) -> 68608.333 | L33: =SUM(L25:L32) -> 68608.333 | M33: =SUM(M25:M32) -> 68608.333 | N33: =SUM(N25:N32) -> 68608.333 | O33: =SUM(O25:O32) -> 84975 | ... BJ33: =SUM(BJ25:BJ32) -> 90208.333
A35: EBITDA | C35: -39583.658 | D35: -39520.79 | E35: -67235.062 | F35: -73509.984 | G35: -82350.191 | H35: =H23-H33 -> -80720.532 | I35: =I23-I33 -> -79121.28 | J35: =J23-J33 -> -77550.067 | K35: =K23-K33 -> -75974.97 | L35: =L23-L33 -> -74421.287 | M35: =M23-M33 -> -72875.899 | N35: =N23-N33 -> -71354.298 | O35: =O23-O33 -> -86206.518 | ... BJ35: =BJ23-BJ33 -> 61943.943
B37: Gross Expenses | C37: 43196.922 | D37: 43462.182 | E37: 71588.582 | F37: 78426.842 | G37: 104815.49 | H37: =H14+H21+H33 -> 107970.06 | I37: =I14+I21+I33 -> 111320.04 | J37: =J14+J21+J33 -> 114540.09 | K37: =K14+K21+K33 -> 117704.01 | L37: =L14+L21+L33 -> 120755.09 | M37: =M14+M21+M33 -> 123728.95 | N37: =N14+N21+N33 -> 126589.06 | O37: =O14+O21+O33 -> 145762.59 | ... BJ37: =BJ14+BJ21+BJ33 -> 459008.91
B38: Employees | C38: 4 | D38: 4 | E38: 6 | F38: 7 | G38: 7 | H38: =Employees!H14 -> 7 | I38: =Employees!I14 -> 7 | J38: =Employees!J14 -> 7 | K38: =Employees!K14 -> 7 | L38: =Employees!L14 -> 7 | M38: =Employees!M14 -> 7 | N38: =Employees!N14 -> 7 | O38: =Employees!O14 -> 8 | ... BJ38: =Employees!BJ14 -> 10
B39: Capital Raised | C39: =OpeningCashBalance -> 1000000 | N39: 0 | O39: =SeriesAFunding -> 2500000

Sheet Monthly Balance Sheet
A1: Balance Sheet | C1: Month
C2: ='Monthly Income Statement'!C2 -> 44211 | D2: ='Monthly Income Statement'!D2 -> 44241 | E2: ='Monthly Income Statement'!E2 -> 44271 | F2: ='Monthly Income Statement'!F2 -> 44301 | G2: ='Monthly Income Statement'!G2 -> 44331 | H2: ='Monthly Income Statement'!H2 -> 44361 | I2: ='Monthly Income Statement'!I2 -> 44391 | J2: ='Monthly Income Statement'!J2 -> 44421 | ... BJ2: ='Monthly Income Statement'!BJ2 -> 46002
A3: Assets:
A4: Cash | C4: ='Monthly Cash Flow'!C27 -> 967395.34 | D4: ='Monthly Cash Flow'!D27 -> 928367.55 | E4: ='Monthly Cash Flow'!E27 -> 883581.49 | F4: ='Monthly Cash Flow'!F27 -> 802868.51 | G4: ='Monthly Cash Flow'!G27 -> 699900.31 | H4: ='Monthly Cash Flow'!H27 -> 622416.56 | I4: ='Monthly Cash Flow'!I27 -> 541334.09 | J4: ='Monthly Cash Flow'!J27 -> 461839.41 | ... BJ4: ='Monthly Cash Flow'!BJ27 -> 508209.56
A5: Accounts Receivable | C5: 3556 | D5: 3899 | E5: 4355 | F5: 4907 | G5: 22456 | H5: =AverageARDays/30*'Monthly Income Statement'!H8 -> 27249.531 | I5: =AverageARDays/30*'Monthly Income Statement'!I8 -> 32198.761 | J5: =AverageARDays/30*'Monthly Income Statement'!J8 -> 36990.022 | K5: =AverageARDays/30*'Monthly Income Statement'!K8 -> 41729.045 | L5: =AverageARDays/30*'Monthly Income Statement'!L8 -> 46333.799 | M5: =AverageARDays/30*'Monthly Income Statement'!M8 -> 50853.046 | N5: =AverageARDays/30*'Monthly Income Statement'!N8 -> 55234.764 | O5: =AverageARDays/30*'Monthly Income Statement'!O8 -> 59556.068 | ... BJ5: =AverageARDays/30*'Monthly Income Statement'!BJ8 -> 520952.85
A6: Inventory | C6: 3452 | D6: 3976 | E6: 4452 | F6: 4871 | G6: 18735 | H6: =InventoryDaysOnHand/30*'Monthly Income Statement'!H8*(1-SubscriptionMargin) -> 20437.148 | I6: =InventoryDaysOnHand/30*'Monthly Income Statement'!I8*(1-SubscriptionMargin) -> 24149.071 | J6: =InventoryDaysOnHand/30*'Monthly Income Statement'!J8*(1-SubscriptionMargin) -> 27742.517 | K6: =InventoryDaysOnHand/30*'Monthly Income Statement'!K8*(1-SubscriptionMargin) -> 31296.784 | L6: =InventoryDaysOnHand/30*'Monthly Income Statement'!L8*(1-SubscriptionMargin) -> 34750.35 | M6: =InventoryDaysOnHand/30*'Monthly Income Statement'!M8*(1-SubscriptionMargin) -> 38139.785 | N6: =InventoryDaysOnHand/30*'Monthly Income Statement'!N8*(1-SubscriptionMargin) -> 41426.073 | O6: =InventoryDaysOnHand/30*'Monthly Income Statement'!O8*(1-SubscriptionMargin) -> 44667.051 | ... BJ6: =InventoryDaysOnHand/30*'Monthly Income Statement'!BJ8*(1-SubscriptionMargin) -> 390714.64
A7: Fixed Assets
A8: Accumulated Depreciation
A9: Total Assets | C9: =SUM(C4:C8) -> 974403.34 | D9: =SUM(D4:D8) -> 936242.55 | E9: =SUM(E4:E8) -> 892388.49 | F9: =SUM(F4:F8) -> 812646.51 | G9: =SUM(G4:G8) -> 741091.31 | H9: =SUM(H4:H8) -> 670103.24 | I9: =SUM(I4:I8) -> 597681.92 | J9: =SUM(J4:J8) -> 526571.95 | ... BJ9: =SUM(BJ4:BJ8) -> 1419877
A11: Liabilities
A12: Accounts Payable | C12: 13987 | D12: 15347 | E12: 38728 | F12: 32496 | G12: 43291 | H12: =AverageAPDays/30*('Monthly Income Statement'!H14+SUM('Monthly Income Statement'!H27:H32)) -> 53023.46 | I12: =AverageAPDays/30*('Monthly Income Statement'!I14+SUM('Monthly Income Statement'!I27:I32)) -> 59723.416 | J12: =AverageAPDays/30*('Monthly Income Statement'!J14+SUM('Monthly Income Statement'!J27:J32)) -> 66163.512 | K12: =AverageAPDays/30*('Monthly Income Statement'!K14+SUM('Monthly Income Statement'!K27:K32)) -> 72491.362 | L12: =AverageAPDays/30*('Monthly Income Statement'!L14+SUM('Monthly Income Statement'!L27:L32)) -> 78593.506 | M12: =AverageAPDays/30*('Monthly Income Statement'!M14+SUM('Monthly Income Statement'!M27:M32)) -> 84541.223 | N12: =AverageAPDays/30*('Monthly Income Statement'!N14+SUM('Monthly Income Statement'!N27:N32)) -> 90261.457 | O12: =AverageAPDays/30*('Monthly Income Statement'!O14+SUM('Monthly Income Statement'!O27:O32)) -> 107775.17 | ... BJ12: =AverageAPDays/30*('Monthly Income Statement'!BJ14+SUM('Monthly Income Statement'!BJ27:BJ32)) -> 717601.15
A13: Short Term Debt
A14: Long Term Debt
A15: Total Liabilities | C15: =SUM(C12:C14) -> 13987 | D15: =SUM(D12:D14) -> 15347 | E15: =SUM(E12:E14) -> 38728 | F15: =SUM(F12:F14) -> 32496 | G15: =SUM(G12:G14) -> 43291 | H15: =SUM(H12:H14) -> 53023.46 | I15: =SUM(I12:I14) -> 59723.416 | J15: =SUM(J12:J14) -> 66163.512 | ... BJ15: =SUM(BJ12:BJ14) -> 717601.15
A17: Owners Equity
A18: Capital Stock | C18: =B18+'Monthly Income Statement'!C39 -> 1000000 | D18: =C18+'Monthly Income Statement'!D39 -> 1000000 | E18: =D18+'Monthly Income Statement'!E39 -> 1000000 | F18: =E18+'Monthly Income Statement'!F39 -> 1000000 | G18: =F18+'Monthly Income Statement'!G39 -> 1000000 | H18: =G18+'Monthly Income Statement'!H39 -> 1000000 | I18: =H18+'Monthly Income Statement'!I39 -> 1000000 | J18: =I18+'Monthly Income Statement'!J39 -> 1000000 | ... BJ18: =BI18+'Monthly Income Statement'!BJ39 -> 3500000
A19: Retained Earnings | C19: -39583.658 | D19: -79104.448 | E19: -146339.51 | F19: -219849.49 | G19: -302199.69 | H19: =G19+'Monthly Income Statement'!H35 -> -382920.22 | I19: =H19+'Monthly Income Statement'!I35 -> -462041.5 | J19: =I19+'Monthly Income Statement'!J35 -> -539591.57 | K19: =J19+'Monthly Income Statement'!K35 -> -615566.54 | L19: =K19+'Monthly Income Statement'!L35 -> -689987.82 | M19: =L19+'Monthly Income Statement'!M35 -> -762863.72 | N19: =M19+'Monthly Income Statement'!N35 -> -834218.02 | O19: =N19+'Monthly Income Statement'!O35 -> -920424.54 | ... BJ19: =BI19+'Monthly Income Statement'!BJ35 -> -2797724.1
A20: Total Equity | C20: =SUM(C18:C19) -> 960416.34 | D20: =SUM(D18:D19) -> 920895.55 | E20: =SUM(E18:E19) -> 853660.49 | F20: =SUM(F18:F19) -> 780150.51 | G20: =SUM(G18:G19) -> 697800.31 | H20: =SUM(H18:H19) -> 617079.78 | I20: =SUM(I18:I19) -> 537958.5 | J20: =SUM(J18:J19) -> 460408.43 | ... BJ20: =SUM(BJ18:BJ19) -> 702275.9
A22: Total Liabilities & Equity | C22: =C20+C15 -> 974403.34 | D22: =D20+D15 -> 936242.55 | E22: =E20+E15 -> 892388.49 | F22: =F20+F15 -> 812646.51 | G22: =G20+G15 -> 741091.31 | H22: =H20+H15 -> 670103.24 | I22: =I20+I15 -> 597681.92 | J22: =J20+J15 -> 526571.95 | ... BJ22: =BJ20+BJ15 -> 1419877
C23: =C22-C9 -> 0 | D23: =D22-D9 -> 0 | E23: =E22-E9 -> 0 | F23: =F22-F9 -> 0 | G23: =G22-G9 -> 0 | H23: =H22-H9 -> 0
A25: "Enterprise Value" | C25: =RevenueMultiple*12*'Monthly Income Statement'!C8+C9 -> 1191199.2 | E25: =RevenueMultiple*12*'Monthly Income Statement'!E8+E9 -> 1153599.7 | F25: =RevenueMultiple*12*'Monthly Income Statement'!F8+F9 -> 1107658 | G25: =RevenueMultiple*12*'Monthly Income Statement'!G8+G9 -> 2089009.1 | H25: =RevenueMultiple*12*'Monthly Income Statement'!H8+H9 -> 2305075.1 | I25: =RevenueMultiple*12*'Monthly Income Statement'!I8+I9 -> 2529607.6 | J25: =RevenueMultiple*12*'Monthly Income Statement'!J8+J9 -> 2745973.3 | K25: =RevenueMultiple*12*'Monthly Income Statement'!K8+K9 -> 2960667.5 | L25: =RevenueMultiple*12*'Monthly Income Statement'!L8+L9 -> 3168633.6 | ... BJ25: =RevenueMultiple*12*'Monthly Income Statement'!BJ8+BJ9 -> 32677048
A26: Founders Value | C26: =C34*C25 -> 774279.46 | D26: =D34*D25 -> 0 | E26: =E34*E25 -> 749839.79 | F26: =F34*F25 -> 719977.69 | G26: =G34*G25 -> 1357855.9 | H26: =H34*H25 -> 1498298.8 | I26: =I34*I25 -> 1644244.9 | J26: =J34*J25 -> 1784882.6 | ... BJ26: =BJ34*BJ25 -> 13054901
A28: For rounds:
A29: Pre-money | C29: =PreMoneyMonth1 -> 3000000 | D29: =RevenueMultiple*12*'Monthly Income Statement'!D8+D9 -> 1172726.1 | E29: =RevenueMultiple*12*'Monthly Income Statement'!E8+E9 -> 1153599.7 | F29: =RevenueMultiple*12*'Monthly Income Statement'!F8+F9 -> 1107658 | G29: =RevenueMultiple*12*'Monthly Income Statement'!G8+G9 -> 2089009.1 | H29: =RevenueMultiple*12*'Monthly Income Statement'!H8+H9 -> 2305075.1 | I29: =RevenueMultiple*12*'Monthly Income Statement'!I8+I9 -> 2529607.6 | J29: =RevenueMultiple*12*'Monthly Income Statement'!J8+J9 -> 2745973.3 | K29: =RevenueMultiple*12*'Monthly Income Statement'!K8+K9 -> 2960667.5 | ... BJ29: =RevenueMultiple*12*'Monthly Income Statement'!BJ8+BJ9 -> 32677048
A30: New money | C30: ='Monthly Income Statement'!C39 -> 1000000 | D30: ='Monthly Income Statement'!D39 -> 0 | E30: ='Monthly Income Statement'!E39 -> 0 | F30: ='Monthly Income Statement'!F39 -> 0 | G30: ='Monthly Income Statement'!G39 -> 0 | H30: ='Monthly Income Statement'!H39 -> 0 | I30: ='Monthly Income Statement'!I39 -> 0 | J30: ='Monthly Income Statement'!J39 -> 0 | ... BJ30: ='Monthly Income Statement'!BJ39 -> 0
A31: New Money Share | C31: =C30/(C29+C30) -> 0.25 | D31: =D30/(D29+D30) -> 0 | E31: =E30/(E29+E30) -> 0 | F31: =F30/(F29+F30) -> 0 | G31: =G30/(G29+G30) -> 0 | H31: =H30/(H29+H30) -> 0 | I31: =I30/(I29+I30) -> 0 | J31: =J30/(J29+J30) -> 0 | ... BJ31: =BJ30/(BJ29+BJ30) -> 0
A32: New Options Share | C32: =IF(C31>0.01,OptionPoolPercentage,0) -> 0.1 | D32: =IF(D31>0.01,OptionPoolPercentage,0) -> 0 | E32: =IF(E31>0.01,OptionPoolPercentage,0) -> 0 | F32: =IF(F31>0.01,OptionPoolPercentage,0) -> 0 | G32: =IF(G31>0.01,OptionPoolPercentage,0) -> 0 | H32: =IF(H31>0.01,OptionPoolPercentage,0) -> 0 | I32: =IF(I31>0.01,OptionPoolPercentage,0) -> 0 | J32: =IF(J31>0.01,OptionPoolPercentage,0) -> 0 | ... BJ32: =IF(BJ31>0.01,OptionPoolPercentage,0) -> 0
A33: Old cap table share | C33: =1-(C31+C32) -> 0.65 | D33: =1-(D31+D32) -> 1 | E33: =1-(E31+E32) -> 1 | F33: =1-(F31+F32) -> 1 | G33: =1-(G31+G32) -> 1 | H33: =1-(H31+H32) -> 1 | I33: =1-(I31+I32) -> 1 | J33: =1-(J31+J32) -> 1 | ... BJ33: =1-(BJ31+BJ32) -> 1
A34: Founder's share | C34: =C33 -> 0.65 | D34: =C34*D33 -> 0.65 | E34: =D34*E33 -> 0.65 | F34: =E34*F33 -> 0.65 | G34: =F34*G33 -> 0.65 | H34: =G34*H33 -> 0.65 | I34: =H34*I33 -> 0.65 | J34: =I34*J33 -> 0.65 | K34: =J34*K33 -> 0.65 | ... BJ34: =BI34*BJ33 -> 0.39951285

Sheet Monthly Cash Flow
A1: MONTHLY Cash Flow | C1: Month
C2: ='Monthly Income Statement'!C2 -> 44211 | D2: ='Monthly Income Statement'!D2 -> 44241 | E2: ='Monthly Income Statement'!E2 -> 44271 | F2: ='Monthly Income Statement'!F2 -> 44301 | G2: ='Monthly Income Statement'!G2 -> 44331 | H2: ='Monthly Income Statement'!H2 -> 44361 | I2: ='Monthly Income Statement'!I2 -> 44391 | J2: ='Monthly Income Statement'!J2 -> 44421 | ... BJ2: ='Monthly Income Statement'!BJ2 -> 46002
B3: Beginning Cash Balance | C3: 0 | D3: =C27 -> 967395.34 | E3: =D27 -> 928367.55 | F3: =E27 -> 883581.49 | G3: =F27 -> 802868.51 | H3: =G27 -> 699900.31 | I3: =H27 -> 622416.56 | J3: =I27 -> 541334.09 | K3: =J27 -> 461839.41 | ... BJ3: =BI27 -> 461409.25
B5: Cash Receipts:
B6: Gross Sales | C6: ='Monthly Income Statement'!C8 -> 3613.2637 | D6: ='Monthly Income Statement'!D8 -> 3941.3917 | E6: ='Monthly Income Statement'!E8 -> 4353.5198 | F6: ='Monthly Income Statement'!F8 -> 4916.8579 | G6: ='Monthly Income Statement'!G8 -> 22465.296 | H6: ='Monthly Income Statement'!H8 -> 27249.531 | I6: ='Monthly Income Statement'!I8 -> 32198.761 | J6: ='Monthly Income Statement'!J8 -> 36990.022 | ... BJ6: ='Monthly Income Statement'!BJ8 -> 520952.85
B7: Change in A/R | C7: ='Monthly Balance Sheet'!B5-'Monthly Balance Sheet'!C5 -> -3556 | D7: ='Monthly Balance Sheet'!C5-'Monthly Balance Sheet'!D5 -> -343 | E7: ='Monthly Balance Sheet'!D5-'Monthly Balance Sheet'!E5 -> -456 | F7: ='Monthly Balance Sheet'!E5-'Monthly Balance Sheet'!F5 -> -552 | G7: ='Monthly Balance Sheet'!F5-'Monthly Balance Sheet'!G5 -> -17549 | H7: ='Monthly Balance Sheet'!G5-'Monthly Balance Sheet'!H5 -> -4793.5312 | I7: ='Monthly Balance Sheet'!H5-'Monthly Balance Sheet'!I5 -> -4949.2296 | J7: ='Monthly Balance Sheet'!I5-'Monthly Balance Sheet'!J5 -> -4791.2613 | ... BJ7: ='Monthly Balance Sheet'!BI5-'Monthly Balance Sheet'!BJ5 -> -37597.419
B9: Total Receipts | C9: =SUM(C5:C8) -> 57.263745 | D9: =SUM(D5:D8) -> 3598.3917 | E9: =SUM(E5:E8) -> 3897.5198 | F9: =SUM(F5:F8) -> 4364.8579 | G9: =SUM(G5:G8) -> 4916.2961 | H9: =SUM(H5:H8) -> 22456 | I9: =SUM(I5:I8) -> 27249.531 | J9: =SUM(J5:J8) -> 32198.761 | ... BJ9: =SUM(BJ5:BJ8) -> 483355.43
B11: Disbursements:
B12: Gross Expenses | C12: =-('Monthly Income Statement'!C14+'Monthly Income Statement'!C21+'Monthly Income Statement'!C33) -> -43196.922 | D12: =-('Monthly Income Statement'!D14+'Monthly Income Statement'!D21+'Monthly Income Statement'!D33) -> -43462.182 | E12: =-('Monthly Income Statement'!E14+'Monthly Income Statement'!E21+'Monthly Income Statement'!E33) -> -71588.582 | F12: =-('Monthly Income Statement'!F14+'Monthly Income Statement'!F21+'Monthly Income Statement'!F33) -> -78426.842 | G12: =-('Monthly Income Statement'!G14+'Monthly Income Statement'!G21+'Monthly Income Statement'!G33) -> -104815.49 | H12: =-('Monthly Income Statement'!H14+'Monthly Income Statement'!H21+'Monthly Income Statement'!H33) -> -107970.06 | I12: =-('Monthly Income Statement'!I14+'Monthly Income Statement'!I21+'Monthly Income Statement'!I33) -> -111320.04 | J12: =-('Monthly Income Statement'!J14+'Monthly Income Statement'!J21+'Monthly Income Statement'!J33) -> -114540.09 | ... BJ12: =-('Monthly Income Statement'!BJ14+'Monthly Income Statement'!BJ21+'Monthly Income Statement'!BJ33) -> -459008.91
B13: Change in A/P | C13: ='Monthly Balance Sheet'!C12-'Monthly Balance Sheet'!B12 -> 13987 | D13: ='Monthly Balance Sheet'!D12-'Monthly Balance Sheet'!C12 -> 1360 | E13: ='Monthly Balance Sheet'!E12-'Monthly Balance Sheet'!D12 -> 23381 | F13: ='Monthly Balance Sheet'!F12-'Monthly Balance Sheet'!E12 -> -6232 | G13: ='Monthly Balance Sheet'!G12-'Monthly Balance Sheet'!F12 -> 10795 | H13: ='Monthly Balance Sheet'!H12-'Monthly Balance Sheet'!G12 -> 9732.4596 | I13: ='Monthly Balance Sheet'!I12-'Monthly Balance Sheet'!H12 -> 6699.956 | J13: ='Monthly Balance Sheet'!J12-'Monthly Balance Sheet'!I12 -> 6440.0968 | ... BJ13: ='Monthly Balance Sheet'!BJ12-'Monthly Balance Sheet'!BI12 -> 50651.844
B14: Change in Inventory Value | C14: ='Monthly Balance Sheet'!B6-'Monthly Balance Sheet'!C6 -> -3452 | D14: ='Monthly Balance Sheet'!C6-'Monthly Balance Sheet'!D6 -> -524 | E14: ='Monthly Balance Sheet'!D6-'Monthly Balance Sheet'!E6 -> -476 | F14: ='Monthly Balance Sheet'!E6-'Monthly Balance Sheet'!F6 -> -419 | G14: ='Monthly Balance Sheet'!F6-'Monthly Balance Sheet'!G6 -> -13864 | H14: ='Monthly Balance Sheet'!G6-'Monthly Balance Sheet'!H6 -> -1702.1484 | I14: ='Monthly Balance Sheet'!H6-'Monthly Balance Sheet'!I6 -> -3711.9222 | J14: ='Monthly Balance Sheet'!I6-'Monthly Balance Sheet'!J6 -> -3593.446 | ... BJ14: ='Monthly Balance Sheet'!BI6-'Monthly Balance Sheet'!BJ6 -> -28198.064
B15: Amortization & Depreciation
B16: Capital Expenditures
B17: Income Tax Paid
B18: Total Disbursements | C18: =SUM(C11:C17) -> -32661.922 | D18: =SUM(D11:D17) -> -42626.182 | E18: =SUM(E11:E17) -> -48683.582 | F18: =SUM(F11:F17) -> -85077.842 | G18: =SUM(G11:G17) -> -107884.49 | H18: =SUM(H11:H17) -> -99939.752 | I18: =SUM(I11:I17) -> -108332.01 | J18: =SUM(J11:J17) -> -111693.44 | ... BJ18: =SUM(BJ11:BJ17) -> -436555.13
B20: Net Cash Flow from Operations | C20: =C9+C18 -> -32604.658 | D20: =D9+D18 -> -39027.79 | E20: =E9+E18 -> -44786.062 | F20: =F9+F18 -> -80712.984 | G20: =G9+G18 -> -102968.19 | H20: =H9+H18 -> -77483.752 | I20: =I9+I18 -> -81082.476 | J20: =J9+J18 -> -79494.678 | ... BJ20: =BJ9+BJ18 -> 46800.304
B22: Equity Financing | C22: ='Monthly Income Statement'!C39 -> 1000000 | D22: ='Monthly Income Statement'!D39 -> 0 | E22: ='Monthly Income Statement'!E39 -> 0 | F22: ='Monthly Income Statement'!F39 -> 0 | G22: ='Monthly Income Statement'!G39 -> 0 | H22: ='Monthly Income Statement'!H39 -> 0 | I22: ='Monthly Income Statement'!I39 -> 0 | J22: ='Monthly Income Statement'!J39 -> 0 | ... BJ22: ='Monthly Income Statement'!BJ39 -> 0
B23: Interest Income
B24: Short Term borrowing
B25: Short Term repayments
B27: Ending Cash Balance | C27: =C3+SUM(C20:C26) -> 967395.34 | D27: =D3+SUM(D20:D26) -> 928367.55 | E27: =E3+SUM(E20:E26) -> 883581.49 | F27: =F3+SUM(F20:F26) -> 802868.51 | G27: =G3+SUM(G20:G26) -> 699900.31 | H27: =H3+SUM(H20:H26) -> 622416.56 | I27: =I3+SUM(I20:I26) -> 541334.09 | J27: =J3+SUM(J20:J26) -> 461839.41 | ... BJ27: =BJ3+SUM(BJ20:BJ26) -> 508209.56
B29: Time to Live | C29: =IF(C20<0,-C27/C20,"") -> 29.670464 | D29: =IF(D20<0,-D27/D20,"") -> 23.787346 | E29: =IF(E20<0,-E27/E20,"") -> 19.728939 | F29: =IF(F20<0,-F27/F20,"") -> 9.9472038 | G29: =IF(G20<0,-G27/G20,"") -> 6.7972478 | H29: =IF(H20<0,-H27/H20,"") -> 8.0328656 | I29: =IF(I20<0,-I27/I20,"") -> 6.6763388 | J29: =IF(J20<0,-J27/J20,"") -> 5.8096897 | ... BJ29: =IF(BJ20<0,-BJ27/BJ20,"")

Sheet Traffic Detail
A1: Traffic Detail | C1: Month
C2: ='Monthly Income Statement'!C2 -> 44211 | D2: ='Monthly Income Statement'!D2 -> 44241 | E2: ='Monthly Income Statement'!E2 -> 44271 | F2: ='Monthly Income Statement'!F2 -> 44301 | G2: ='Monthly Income Statement'!G2 -> 44331 | H2: ='Monthly Income Statement'!H2 -> 44361 | I2: ='Monthly Income Statement'!I2 -> 44391 | J2: ='Monthly Income Statement'!J2 -> 44421 | ... BJ2: ='Monthly Income Statement'!BJ2 -> 46002
B3: Monthly CPC Spend | C3: 200 | D3: 250 | E3: 376 | F3: 457 | G3: 9923 | H3: =SteadyStateMonthlySEMSpend -> 10000 | I3: =SteadyStateMonthlySEMSpend -> 10000 | J3: =SteadyStateMonthlySEMSpend -> 10000 | K3: =SteadyStateMonthlySEMSpend -> 10000 | L3: =SteadyStateMonthlySEMSpend -> 10000 | M3: =SteadyStateMonthlySEMSpend -> 10000 | N3: =SteadyStateMonthlySEMSpend -> 10000 | O3: =SteadyStateMonthlySEMSpend -> 10000 | ... BJ3: =SteadyStateMonthlySEMSpend -> 10000
B4: Average CPC - SEM (Google) | C4: =C3/C5 -> 2.3529412 | D4: =D3/D5 -> 2.4271845 | E4: =E3/E5 -> 2.2787879 | F4: =F3/F5 -> 2.2736318 | G4: =G3/G5 -> 2.2414728 | H4: =AverageCPCGoogle -> 2.25 | I4: =AverageCPCGoogle -> 2.25 | J4: =AverageCPCGoogle -> 2.25 | K4: =AverageCPCGoogle -> 2.25 | L4: =AverageCPCGoogle -> 2.25 | M4: =AverageCPCGoogle -> 2.25 | N4: =AverageCPCGoogle -> 2.25 | O4: =AverageCPCGoogle -> 2.25 | ... BJ4: =AverageCPCGoogle -> 2.25
B5: Visits from SEM (Google) | C5: 85 | D5: 103 | E5: 165 | F5: 201 | G5: 4427 | H5: =H3/H4 -> 4444.4444 | I5: =I3/I4 -> 4444.4444 | J5: =J3/J4 -> 4444.4444 | K5: =K3/K4 -> 4444.4444 | L5: =L3/L4 -> 4444.4444 | M5: =M3/M4 -> 4444.4444 | N5: =N3/N4 -> 4444.4444 | O5: =O3/O4 -> 4444.4444 | ... BJ5: =BJ3/BJ4 -> 4444.4444
B7: Monthly Facebook Spend | C7: 200 | D7: 250 | E7: 434 | F7: 452 | G7: 10163 | H7: =SteadyStateMonthlyFBSpend -> 10000 | I7: =SteadyStateMonthlyFBSpend -> 10000 | J7: =SteadyStateMonthlyFBSpend -> 10000 | K7: =SteadyStateMonthlyFBSpend -> 10000 | L7: =SteadyStateMonthlyFBSpend -> 10000 | M7: =SteadyStateMonthlyFBSpend -> 10000 | N7: =SteadyStateMonthlyFBSpend -> 10000 | O7: =SteadyStateMonthlyFBSpend -> 10000 | ... BJ7: =SteadyStateMonthlyFBSpend -> 10000
B8: Average CPC - Facebook ADS | C8: =C7/C9 -> 1.9047619 | D8: =D7/D9 -> 1.7482517 | E8: =E7/E9 -> 1.920354 | F8: =F7/F9 -> 1.95671 | G8: =G7/G9 -> 1.8468108 | H8: =AverageCPConFACEBOOK -> 1.85 | I8: =AverageCPConFACEBOOK -> 1.85 | J8: =AverageCPConFACEBOOK -> 1.85 | K8: =AverageCPConFACEBOOK -> 1.85 | L8: =AverageCPConFACEBOOK -> 1.85 | M8: =AverageCPConFACEBOOK -> 1.85 | N8: =AverageCPConFACEBOOK -> 1.85 | O8: =AverageCPConFACEBOOK -> 1.85 | ... BJ8: =AverageCPConFACEBOOK -> 1.85
B9: Visits from FACEBOOK ADS | C9: 105 | D9: 143 | E9: 226 | F9: 231 | G9: 5503 | H9: =H7/H8 -> 5405.4054 | I9: =I7/I8 -> 5405.4054 | J9: =J7/J8 -> 5405.4054 | K9: =K7/K8 -> 5405.4054 | L9: =L7/L8 -> 5405.4054 | M9: =M7/M8 -> 5405.4054 | N9: =N7/N8 -> 5405.4054 | O9: =O7/O8 -> 5405.4054 | ... BJ9: =BJ7/BJ8 -> 5405.4054
B11: Facebook Picture Posts | C11: 14 | D11: 10 | E11: 13 | F11: 15 | G11: 20 | H11: =G11 -> 20 | I11: =H11 -> 20 | J11: =I11 -> 20 | K11: =J11 -> 20 | L11: =K11 -> 20 | M11: =L11 -> 20 | N11: =M11 -> 20 | O11: =N11 -> 20 | ... BJ11: =BI11 -> 20
B12: Visits per FB Pic Post | C12: =C13/C11 -> 4.6428571 | D12: =D13/D11 -> 4.8 | E12: =E13/E11 -> 5.0769231 | F12: =F13/F11 -> 5.1333333 | G12: =G13/G11 -> 4.9 | H12: =VIsitsPerFBPicturePost -> 5 | I12: =VIsitsPerFBPicturePost -> 5 | J12: =VIsitsPerFBPicturePost -> 5 | K12: =VIsitsPerFBPicturePost -> 5 | L12: =VIsitsPerFBPicturePost -> 5 | M12: =VIsitsPerFBPicturePost -> 5 | N12: =VIsitsPerFBPicturePost -> 5 | O12: =VIsitsPerFBPicturePost -> 5 | ... BJ12: =VIsitsPerFBPicturePost -> 5
B13: Visits from Facebook Pictures | C13: 65 | D13: 48 | E13: 66 | F13: 77 | G13: 98 | H13: =H11*H12 -> 100 | I13: =I11*I12 -> 100 | J13: =J11*J12 -> 100 | K13: =K11*K12 -> 100 | L13: =L11*L12 -> 100 | M13: =M11*M12 -> 100 | N13: =N11*N12 -> 100 | O13: =O11*O12 -> 100 | ... BJ13: =BJ11*BJ12 -> 100
B15: Facebook Video Posts | C15: 2 | D15: 3 | E15: 5 | F15: 10 | G15: 12 | H15: =G15 -> 12 | I15: =H15 -> 12 | J15: =I15 -> 12 | K15: =J15 -> 12 | L15: =K15 -> 12 | M15: =L15 -> 12 | N15: =M15 -> 12 | O15: =N15 -> 12 | ... BJ15: =BI15 -> 12
B16: Visit per FB Video Post | C16: =C17/C15 -> 22.5 | D16: =D17/D15 -> 29.333333 | E16: =E17/E15 -> 24.2 | F16: =F17/F15 -> 23.7 | G16: =G17/G15 -> 24.666667 | H16: =VIsitsPerFBVideoPost -> 25 | I16: =VIsitsPerFBVideoPost -> 25 | J16: =VIsitsPerFBVideoPost -> 25 | K16: =VIsitsPerFBVideoPost -> 25 | L16: =VIsitsPerFBVideoPost -> 25 | M16: =VIsitsPerFBVideoPost -> 25 | N16: =VIsitsPerFBVideoPost -> 25 | O16: =VIsitsPerFBVideoPost -> 25 | ... BJ16: =VIsitsPerFBVideoPost -> 25
B17: Visits from Facebook Videos | C17: 45 | D17: 88 | E17: 121 | F17: 237 | G17: 296 | H17: =H15*H16 -> 300 | I17: =I15*I16 -> 300 | J17: =J15*J16 -> 300 | K17: =K15*K16 -> 300 | L17: =L15*L16 -> 300 | M17: =M15*M16 -> 300 | N17: =N15*N16 -> 300 | O17: =O15*O16 -> 300 | ... BJ17: =BJ15*BJ16 -> 300
B19: Direct Traffic | C19: 99 | D19: 523 | E19: 632 | F19: 722 | G19: 3929 | H19: =DirectTrafficMultiplier*(H5+H9+H13+H17+H20+'Sales Detail'!G13) -> 3934.7385 | I19: =DirectTrafficMultiplier*(I5+I9+I13+I17+I20+'Sales Detail'!H13) -> 4028.9403 | J19: =DirectTrafficMultiplier*(J5+J9+J13+J17+J20+'Sales Detail'!I13) -> 4126.1602 | K19: =DirectTrafficMultiplier*(K5+K9+K13+K17+K20+'Sales Detail'!J13) -> 4226.5352 | L19: =DirectTrafficMultiplier*(L5+L9+L13+L17+L20+'Sales Detail'!K13) -> 4331.2387 | M19: =DirectTrafficMultiplier*(M5+M9+M13+M17+M20+'Sales Detail'!L13) -> 4440.8355 | N19: =DirectTrafficMultiplier*(N5+N9+N13+N17+N20+'Sales Detail'!M13) -> 4555.617 | O19: =DirectTrafficMultiplier*(O5+O9+O13+O17+O20+'Sales Detail'!N13) -> 4676.5967 | ... BJ19: =DirectTrafficMultiplier*(BJ5+BJ9+BJ13+BJ17+BJ20+'Sales Detail'!BI13) -> 86273.519
B20: SEO visits | C20: 874 | D20: 903 | E20: 1193 | F20: 1159 | G20: 1286 | H20: =G20*(1+OrganicTrafficMonthlyGrowthRate) -> 1414.6 | I20: =H20*(1+OrganicTrafficMonthlyGrowthRate) -> 1556.06 | J20: =I20*(1+OrganicTrafficMonthlyGrowthRate) -> 1711.666 | K20: =J20*(1+OrganicTrafficMonthlyGrowthRate) -> 1882.8326 | L20: =K20*(1+OrganicTrafficMonthlyGrowthRate) -> 2071.1159 | M20: =L20*(1+OrganicTrafficMonthlyGrowthRate) -> 2278.2274 | N20: =M20*(1+OrganicTrafficMonthlyGrowthRate) -> 2506.0502 | O20: =N20*(1+OrganicTrafficMonthlyGrowthRate) -> 2756.6552 | ... BJ20: =BI20*(1+OrganicTrafficMonthlyGrowthRate) -> 243130.06
B22: Total Visits | C22: =C20+C19+C9+C5+C13+C17 -> 1273 | D22: =D20+D19+D9+D5+D13+D17 -> 1808 | E22: =E20+E19+E9+E5+E13+E17 -> 2403 | F22: =F20+F19+F9+F5+F13+F17 -> 2627 | G22: =G20+G19+G9+G5+G13+G17 -> 15539 | H22: =H20+H19+H9+H5+H13+H17 -> 15599.188 | I22: =I20+I19+I9+I5+I13+I17 -> 15834.85 | J22: =J20+J19+J9+J5+J13+J17 -> 16087.676 | ... BJ22: =BJ20+BJ19+BJ9+BJ5+BJ13+BJ17 -> 339653.43

Sheet Sales Detail
A1: Sales | C1: Month
C2: ='Monthly Income Statement'!C2 -> 44211 | D2: ='Monthly Income Statement'!D2 -> 44241 | E2: ='Monthly Income Statement'!E2 -> 44271 | F2: ='Monthly Income Statement'!F2 -> 44301 | G2: ='Monthly Income Statement'!G2 -> 44331 | H2: ='Monthly Income Statement'!H2 -> 44361 | I2: ='Monthly Income Statement'!I2 -> 44391 | J2: ='Monthly Income Statement'!J2 -> 44421 | ... BJ2: ='Monthly Income Statement'!BJ2 -> 46002
B3: Beginning Subscribers | C3: 97 | D3: =C13 -> 99 | E3: =D13 -> 100 | F3: =E13 -> 106 | G3: =F13 -> 111 | H3: =G13 -> 259 | I3: =H13 -> 403 | J3: =I13 -> 542 | K3: =J13 -> 675 | ... BJ3: =BI13 -> 8055
B4: Google Conversion Rate | C4: =C5/'Traffic Detail'!C5 -> 0.023529412 | D4: =D5/'Traffic Detail'!D5 -> 0.019417476 | E4: =E5/'Traffic Detail'!E5 -> 0.018181818 | F4: =F5/'Traffic Detail'!F5 -> 0.019900498 | G4: =G5/'Traffic Detail'!G5 -> 0.019426248 | H4: =SEMToSubscriber -> 0.02 | I4: =SEMToSubscriber -> 0.02 | J4: =SEMToSubscriber -> 0.02 | K4: =SEMToSubscriber -> 0.02 | L4: =SEMToSubscriber -> 0.02 | M4: =SEMToSubscriber -> 0.02 | N4: =SEMToSubscriber -> 0.02 | O4: =SEMToSubscriber -> 0.02 | ... BJ4: =SEMToSubscriber -> 0.02
B5: New Google Subscribers | C5: 2 | D5: 2 | E5: 3 | F5: 4 | G5: 86 | H5: ='Traffic Detail'!H5*H4 -> 88.888889 | I5: ='Traffic Detail'!I5*I4 -> 88.888889 | J5: ='Traffic Detail'!J5*J4 -> 88.888889 | K5: ='Traffic Detail'!K5*K4 -> 88.888889 | L5: ='Traffic Detail'!L5*L4 -> 88.888889 | M5: ='Traffic Detail'!M5*M4 -> 88.888889 | N5: ='Traffic Detail'!N5*N4 -> 88.888889 | O5: ='Traffic Detail'!O5*O4 -> 88.888889 | ... BJ5: ='Traffic Detail'!BJ5*BJ4 -> 88.888889
B6: FB Conversion Rate | C6: =C7/'Traffic Detail'!C9 -> 0.0095238095 | D6: =D7/'Traffic Detail'!D9 -> 0.006993007 | E6: =E7/'Traffic Detail'!E9 -> 0.0088495575 | F6: =F7/'Traffic Detail'!F9 -> 0.0086580087 | G6: =G7/'Traffic Detail'!G9 -> 0.0098128294 | H6: =FacebookToSubscriber -> 0.01 | I6: =FacebookToSubscriber -> 0.01 | J6: =FacebookToSubscriber -> 0.01 | K6: =FacebookToSubscriber -> 0.01 | L6: =FacebookToSubscriber -> 0.01 | M6: =FacebookToSubscriber -> 0.01 | N6: =FacebookToSubscriber -> 0.01 | O6: =FacebookToSubscriber -> 0.01 | ... BJ6: =FacebookToSubscriber -> 0.01
B7: New FB Subscribers | C7: 1 | D7: 1 | E7: 2 | F7: 2 | G7: 54 | H7: ='Traffic Detail'!H9*H6 -> 54.054054 | I7: ='Traffic Detail'!I9*I6 -> 54.054054 | J7: ='Traffic Detail'!J9*J6 -> 54.054054 | K7: ='Traffic Detail'!K9*K6 -> 54.054054 | L7: ='Traffic Detail'!L9*L6 -> 54.054054 | M7: ='Traffic Detail'!M9*M6 -> 54.054054 | N7: ='Traffic Detail'!N9*N6 -> 54.054054 | O7: ='Traffic Detail'!O9*O6 -> 54.054054 | ... BJ7: ='Traffic Detail'!BJ9*BJ6 -> 54.054054
B8: Organic Conversion Rate | C8: =C9/('Traffic Detail'!C13+'Traffic Detail'!C17+'Traffic Detail'!C19+'Traffic Detail'!C20) -> 0.0018467221 | D8: =D9/('Traffic Detail'!D13+'Traffic Detail'!D17+'Traffic Detail'!D19+'Traffic Detail'!D20) -> 0.0019206146 | E8: =E9/('Traffic Detail'!E13+'Traffic Detail'!E17+'Traffic Detail'!E19+'Traffic Detail'!E20) -> 0.0019880716 | F8: =F9/('Traffic Detail'!F13+'Traffic Detail'!F17+'Traffic Detail'!F19+'Traffic Detail'!F20) -> 0.0018223235 | G8: =G9/('Traffic Detail'!G13+'Traffic Detail'!G17+'Traffic Detail'!G19+'Traffic Detail'!G20) -> 0.0021394188 | H8: =OrganicToSubscriberConversion -> 0.002 | I8: =OrganicToSubscriberConversion -> 0.002 | J8: =OrganicToSubscriberConversion -> 0.002 | K8: =OrganicToSubscriberConversion -> 0.002 | L8: =OrganicToSubscriberConversion -> 0.002 | M8: =OrganicToSubscriberConversion -> 0.002 | N8: =OrganicToSubscriberConversion -> 0.002 | O8: =OrganicToSubscriberConversion -> 0.002 | ... BJ8: =OrganicToSubscriberConversion -> 0.002
